BEGIN:VCALENDAR
VERSION:2.0
PRODID:-//Guelph Museums - ECPv6.15.20//NONSGML v1.0//EN
CALSCALE:GREGORIAN
METHOD:PUBLISH
X-WR-CALNAME:Guelph Museums
X-ORIGINAL-URL:https://guelphmuseums.ca
X-WR-CALDESC:Events for Guelph Museums
REFRESH-INTERVAL;VALUE=DURATION:PT1H
X-Robots-Tag:noindex
X-PUBLISHED-TTL:PT1H
BEGIN:VTIMEZONE
TZID:America/Toronto
BEGIN:DAYLIGHT
TZOFFSETFROM:-0500
TZOFFSETTO:-0400
TZNAME:EDT
DTSTART:20200308T070000
END:DAYLIGHT
BEGIN:STANDARD
TZOFFSETFROM:-0400
TZOFFSETTO:-0500
TZNAME:EST
DTSTART:20201101T060000
END:STANDARD
BEGIN:DAYLIGHT
TZOFFSETFROM:-0500
TZOFFSETTO:-0400
TZNAME:EDT
DTSTART:20210314T070000
END:DAYLIGHT
BEGIN:STANDARD
TZOFFSETFROM:-0400
TZOFFSETTO:-0500
TZNAME:EST
DTSTART:20211107T060000
END:STANDARD
BEGIN:DAYLIGHT
TZOFFSETFROM:-0500
TZOFFSETTO:-0400
TZNAME:EDT
DTSTART:20220313T070000
END:DAYLIGHT
BEGIN:STANDARD
TZOFFSETFROM:-0400
TZOFFSETTO:-0500
TZNAME:EST
DTSTART:20221106T060000
END:STANDARD
BEGIN:DAYLIGHT
TZOFFSETFROM:-0500
TZOFFSETTO:-0400
TZNAME:EDT
DTSTART:20230312T070000
END:DAYLIGHT
BEGIN:STANDARD
TZOFFSETFROM:-0400
TZOFFSETTO:-0500
TZNAME:EST
DTSTART:20231105T060000
END:STANDARD
BEGIN:DAYLIGHT
TZOFFSETFROM:-0500
TZOFFSETTO:-0400
TZNAME:EDT
DTSTART:20240310T070000
END:DAYLIGHT
BEGIN:STANDARD
TZOFFSETFROM:-0400
TZOFFSETTO:-0500
TZNAME:EST
DTSTART:20241103T060000
END:STANDARD
BEGIN:DAYLIGHT
TZOFFSETFROM:-0500
TZOFFSETTO:-0400
TZNAME:EDT
DTSTART:20250309T070000
END:DAYLIGHT
BEGIN:STANDARD
TZOFFSETFROM:-0400
TZOFFSETTO:-0500
TZNAME:EST
DTSTART:20251102T060000
END:STANDARD
BEGIN:DAYLIGHT
TZOFFSETFROM:-0500
TZOFFSETTO:-0400
TZNAME:EDT
DTSTART:20260308T070000
END:DAYLIGHT
BEGIN:STANDARD
TZOFFSETFROM:-0400
TZOFFSETTO:-0500
TZNAME:EST
DTSTART:20261101T060000
END:STANDARD
BEGIN:DAYLIGHT
TZOFFSETFROM:-0500
TZOFFSETTO:-0400
TZNAME:EDT
DTSTART:20270314T070000
END:DAYLIGHT
BEGIN:STANDARD
TZOFFSETFROM:-0400
TZOFFSETTO:-0500
TZNAME:EST
DTSTART:20271107T060000
END:STANDARD
END:VTIMEZONE
BEGIN:VEVENT
DTSTART;VALUE=DATE:20210928
DTEND;VALUE=DATE:20270101
DTSTAMP:20260423T065051
CREATED:20230821T184136Z
LAST-MODIFIED:20251118T193054Z
UID:10018752-1632787200-1798761599@guelphmuseums.ca
SUMMARY:Where The Rivers Meet
DESCRIPTION:Where The Rivers Meet is a display within the City Gallery that centers the Original Peoples who have been on this land since time immemorial. It includes information about migration\, land relationship\, treaties\, impacts of colonization\, and past and present-day perspectives. The display also considers the founding story of Guelph within the context of a longer history lens. \nThis display is a living exhibition that reflects the truth as we understand it today. We continue to learn from our treaty partner\, the Missisaugas of the Credit First Nation\, and from Indigenous people who call Guelph home today. The display will continue to be updated as our knowledge grows.
URL:https://guelphmuseums.ca/event/where-the-rivers-meet-2/
LOCATION:Guelph Civic Museum\, 52 Norfolk Street\, Guelph\, Ontario\, N1H 4H8\, Canada
CATEGORIES:Exhibitions
ATTACH;FMTTYPE=image/png:https://guelphmuseums.ca/wp-content/uploads/2023/08/Geoffrey-Jackson-8.png
GEO:43.5435971;-80.250923
X-APPLE-STRUCTURED-LOCATION;VALUE=URI;X-ADDRESS=Guelph Civic Museum 52 Norfolk Street Guelph Ontario N1H 4H8 Canada;X-APPLE-RADIUS=500;X-TITLE=52 Norfolk Street:geo:-80.250923,43.5435971
END:VEVENT
BEGIN:VEVENT
DTSTART;TZID=America/Toronto:20240305T080000
DTEND;TZID=America/Toronto:20260322T170000
DTSTAMP:20260423T065051
CREATED:20240228T162236Z
LAST-MODIFIED:20260416T034057Z
UID:10018788-1709625600-1774198800@guelphmuseums.ca
SUMMARY:Revelations From The Collection
DESCRIPTION:Guelph Museums has a growing collection of over 50\,000 items\, including objects\, archival material\, and photographs. This collection allows us to record the tangible and intangible history of the place we now call Guelph. Using large-scale photography\, Revelations from the Collection showcases a diverse selection of artifacts and archival material from Guelph Museums’ extensive collection. It provides an opportunity for visitors to engage with artifacts in a unique way and enhance their knowledge and understanding of Guelph’s history and community.
URL:https://guelphmuseums.ca/event/revelations-from-the-collection/
LOCATION:Guelph Civic Museum\, 52 Norfolk Street\, Guelph\, Ontario\, N1H 4H8\, Canada
CATEGORIES:Exhibitions,In Our Cases,Past Exhibitions
ATTACH;FMTTYPE=image/jpeg:https://guelphmuseums.ca/wp-content/uploads/2024/02/Banner_E-Blast.jpg
GEO:43.5435971;-80.250923
X-APPLE-STRUCTURED-LOCATION;VALUE=URI;X-ADDRESS=Guelph Civic Museum 52 Norfolk Street Guelph Ontario N1H 4H8 Canada;X-APPLE-RADIUS=500;X-TITLE=52 Norfolk Street:geo:-80.250923,43.5435971
END:VEVENT
BEGIN:VEVENT
DTSTART;TZID=America/Toronto:20250823T080000
DTEND;TZID=America/Toronto:20260222T170000
DTSTAMP:20260423T065051
CREATED:20250719T184832Z
LAST-MODIFIED:20260109T190730Z
UID:10019628-1755936000-1771779600@guelphmuseums.ca
SUMMARY:Portraits – Stories of Black Canadian Military Service
DESCRIPTION:From pre-Confederation conflicts through to the war in Afghanistan\, Black Canadians have a proud tradition of military service. They have fought and died for freedom abroad\, even as they have struggled against discrimination at home. \nPortraits – Stories of Black Canadian Military Service\, a new travelling exhibition circulated by the Canadian War Museum\, celebrates the contributions of Black Canadians in the military through compelling accounts of service and sacrifice from across the country. \nThe exhibition highlights the contributions and experiences of Black men and women from Nova Scotia and southern Ontario — two historic centres of Black migration — as well as from other parts of Canada. \nVisitors will recognize familiar names and events\, such as the story of William Hall\, one of Canada’s first recipients of the Victoria Cross. They will also discover many lesser-known stories\, like that of Connie and Kathleen Brown\, twin sisters who served during the Second World War. \nGuelph Museums has developed a unique\, localized chapter within the national narrative of the touring exhibition. This addendum focuses on the history of Black military service and migration to Guelph\, Ontario\, including the story of First World War servicemen Henry Francis Courtney\, Victor Goines\, Gordon Goines\, and Tom Malott who served in the No. 2 Construction Battalion\, the largest all-Black unit in Canadian military history. \nPortraits – Stories of Black Canadian Military Service was developed by the Canadian War Museum\, Ottawa in partnership with the Black Cultural Centre for Nova Scotia\, Halifax and the Niagara Military Museum\, Niagara Falls. \n\n\n\n	David Johnson in Korea \nNiagara Military Museum\n\nDavid Johnson en Corée \nNiagara Military Museum \n \n\n\n	Molly Lamb Bobak Private Roy\, Canadian Women’s Army Corps\,1946 \nBeaverbrook Collection of War Art Canadian War Museum CWM 19710261-1626\n\nMolly Lamb Bobak Soldat Roy\, Service féminin de l’armée canadienne\, 1946 \nCollection Beaverbrook d’art militaire Musée canadien de la guerre MCG 19710261-1626  \n\n\n	Alvie Burden \nCourtesy of Eric Brunt \n\nAlvie Burden \nAvec l’aimable autorisation d’Eric Blunt\n \n\n\n	Connie and Kathleen Brown \nNiagara Military Museum\n\nConnie et Kathleen Brown \nNiagara Military Museum
URL:https://guelphmuseums.ca/event/portraits-stories-of-black-canadian-military-service/
LOCATION:Civic Museum\, 52 Norfolk Street\, Guelph\, Ontario\, N1H 4H8\, Canada
CATEGORIES:Exhibitions
ATTACH;FMTTYPE=image/jpeg:https://guelphmuseums.ca/wp-content/uploads/2025/07/Header-768-x-272-Portraits.jpg
GEO:43.5438325;-80.2506311
X-APPLE-STRUCTURED-LOCATION;VALUE=URI;X-ADDRESS=Civic Museum 52 Norfolk Street Guelph Ontario N1H 4H8 Canada;X-APPLE-RADIUS=500;X-TITLE=52 Norfolk Street:geo:-80.2506311,43.5438325
END:VEVENT
BEGIN:VEVENT
DTSTART;TZID=America/Toronto:20251004T110000
DTEND;TZID=America/Toronto:20251004T133000
DTSTAMP:20260423T065051
CREATED:20250806T193820Z
LAST-MODIFIED:20250930T154225Z
UID:10019633-1759575600-1759584600@guelphmuseums.ca
SUMMARY:Railway Day at Locomotive 6167
DESCRIPTION:Gather around the largest object in the Guelph Museums collection\, Locomotive 6167\, for family fun\, learning and creativity. Meet the Locomotive 6167 volunteer crew. Enjoy music\, crafts and train-inspired activities. \n\nMusic from Brad Woods and the Great Wooden Trio\nChildren’s entertainment with Senior Banana Manuel Hernandez\nCrafts with Guelph Calligraphy guild Geraldine Howitt\nMore Crafts with the Guelph Museums Visitor Experience staff
URL:https://guelphmuseums.ca/event/railway-day-at-locomotive-6167-2/
LOCATION:John Galt Park\, 15-147 Woolwich Street\, Guelph\, Ontario\, N1H3V1\, Canada
CATEGORIES:Events
ATTACH;FMTTYPE=image/png:https://guelphmuseums.ca/wp-content/uploads/2024/09/Railway-Day-at-Locomotive-6167-Featured-Image-For-Web-1.png
END:VEVENT
BEGIN:VEVENT
DTSTART;TZID=America/Toronto:20251009T183000
DTEND;TZID=America/Toronto:20251009T203000
DTSTAMP:20260423T065051
CREATED:20250823T151630Z
LAST-MODIFIED:20250823T151630Z
UID:10019634-1760034600-1760041800@guelphmuseums.ca
SUMMARY:Tales From the Hill: Guelph Guild of Storytellers
DESCRIPTION:Tales from the Hill is presented by the Guelph Guild of Storytellers and features a guest teller in addition to Guild tellers. The evening includes hot cider\, light refreshments\, and conversation. Guests are invited to register a telling or participate during the open mic storytelling. \nTales from the Hill runs on the second Wednesday or Thursday of each month from October to May. \nGuests can arrive at 6:30 pm for casual socializing\, call to order at 7:00 pm for storytelling\, followed by time for more visits.
URL:https://guelphmuseums.ca/event/tales-from-the-hill-guelph-guild-of-storytellers-16/
LOCATION:Civic Museum\, 52 Norfolk Street\, Guelph\, Ontario\, N1H 4H8\, Canada
CATEGORIES:Events
ATTACH;FMTTYPE=image/png:https://guelphmuseums.ca/wp-content/uploads/2025/08/Tales-From-The-Hill-Fall-2025.png
GEO:43.5438325;-80.2506311
X-APPLE-STRUCTURED-LOCATION;VALUE=URI;X-ADDRESS=Civic Museum 52 Norfolk Street Guelph Ontario N1H 4H8 Canada;X-APPLE-RADIUS=500;X-TITLE=52 Norfolk Street:geo:-80.2506311,43.5438325
END:VEVENT
BEGIN:VEVENT
DTSTART;TZID=America/Toronto:20251016T183000
DTEND;TZID=America/Toronto:20251016T203000
DTSTAMP:20260423T065051
CREATED:20250830T142756Z
LAST-MODIFIED:20251020T174211Z
UID:10019643-1760639400-1760646600@guelphmuseums.ca
SUMMARY:Military Lecture: Historical Reenacting: Why On Earth Do People Do This
DESCRIPTION:Drawing upon his 20+ years of experience as a War of 1812 reenactor\, Tom Fournier will talk about his motivation for being a reenactor.  He will share his memories on the field\, travelling the globe\, meeting royalty\, and even experiencing the paranormal. \nTom started as a lowly private\, not wanting any responsibility as he already managed an intense corporate career. Circumstances prevailed\, however\, and Tom embarked on a steady journey of promotion. He currently serves as the senior commander for all War of 1812 reenactors portraying British or Canadian soldiers in North America. \nTom will use an image rich slide show to support his talk and will also have on hand a number of uniforms\, accoutrements and weapons for examination. \nDoors open at 6:30 and the presentation starts at 7:00 pm\, followed by a question period. \nThe lecture premiered in-person at the Civic Museum. Due to technical difficulties\, a recorded conversation is unavailable. Guelph Museums’ Military Lecture series is presented in partnership with the Laurier Centre for the Study of Canada. \nAbout the Speaker\n \nIn his working life\, after concluding a 30+ year corporate career\, with much of it spent as a national sales manager\, Tom Fourier founded and currently operates two Cambridge-based businesses.\nTom has a passion for history\, particularly the Napoleonic era and the War of 1812. He has written extensively about both\, as well as presenting lectures and participating on podcasts. \nTom also has several volunteer involvements\, including co-chairing history conferences and live stream events with the History Symposium\, a Canadian not-for-profit and charitable organization. Tom was the chair of the popular War of 1812 conference held at the University of Guelph in 2012. He is a member of the White Hackle Council\, the regimental council supporting the Royal Highland Fusiliers of Canada. He is also involved with promoting history through his volunteer work in War of 1812 reenacting\, where he assumed command as the Brigadier General of the Crown Forces North America in 2024. \nTom’s reenacting career has taken him to events in Canada\, the United States and Europe. \nHe resides in Cambridge\, Ontario.
URL:https://guelphmuseums.ca/event/military-lecture-historical-reenacting-why-on-earth-do-people-do-this/
LOCATION:Civic Museum\, 52 Norfolk Street\, Guelph\, Ontario\, N1H 4H8\, Canada
CATEGORIES:Events,Military Lecture Series,Online
ATTACH;FMTTYPE=image/png:https://guelphmuseums.ca/wp-content/uploads/2025/08/October-2025-Military-Lecture-Tom-Fournier-Reenacting-Featured-Image-For-Web.png
GEO:43.5438325;-80.2506311
X-APPLE-STRUCTURED-LOCATION;VALUE=URI;X-ADDRESS=Civic Museum 52 Norfolk Street Guelph Ontario N1H 4H8 Canada;X-APPLE-RADIUS=500;X-TITLE=52 Norfolk Street:geo:-80.2506311,43.5438325
END:VEVENT
BEGIN:VEVENT
DTSTART;TZID=America/Toronto:20251024T170000
DTEND;TZID=America/Toronto:20251024T210000
DTSTAMP:20260423T065051
CREATED:20250815T190021Z
LAST-MODIFIED:20250815T190021Z
UID:10019635-1761325200-1761339600@guelphmuseums.ca
SUMMARY:Fourth Friday: Diwali Celebration with UW Mehfil
DESCRIPTION:Celebrate Diwali\, the festival of lights\, with a vibrant performance by UW Mehfil\, the University of Waterloo’s South Asian Music Club\, and a host of Diwali-inspired activities\, including mehndi painting and festive crafts. \nThrough music and storytelling\, UW Mehfil captures the spirit of Diwali: light over darkness\, unity in diversity\, and the joy of coming together in celebration. Their repertoire spans Bollywood classics\, soulful Sufi melodies\, and energetic Western fusions\, creating an unforgettable soundtrack for the evening. Expect heart-stirring ballads\, foot-tapping rhythms\, and an atmosphere brimming with warmth\, colour\, and festivity. \nAdmission by donation starting at 5 p.m.\, with the performance starting at 7 p.m. Cash bar. \nAbout the Artist:\nUW Mehfil celebrates the rich diversity of South Asian culture through music\, blending traditional genres with innovative contemporary styles. Their performances offer a space for connection\, creativity\, and community -bringing people together through the universal language of music
URL:https://guelphmuseums.ca/event/fourth-friday-diwali-celebration-with-uw-mehfil/
LOCATION:Civic Museum\, 52 Norfolk Street\, Guelph\, Ontario\, N1H 4H8\, Canada
CATEGORIES:Events
ATTACH;FMTTYPE=image/png:https://guelphmuseums.ca/wp-content/uploads/2025/08/October-2025-4th-Friday-Featured-Image-For-Webpage.png
GEO:43.5438325;-80.2506311
X-APPLE-STRUCTURED-LOCATION;VALUE=URI;X-ADDRESS=Civic Museum 52 Norfolk Street Guelph Ontario N1H 4H8 Canada;X-APPLE-RADIUS=500;X-TITLE=52 Norfolk Street:geo:-80.2506311,43.5438325
END:VEVENT
BEGIN:VEVENT
DTSTART;TZID=America/Toronto:20251025T100000
DTEND;TZID=America/Toronto:20251026T163000
DTSTAMP:20260423T065051
CREATED:20250918T194620Z
LAST-MODIFIED:20250919T181229Z
UID:10019644-1761386400-1761496200@guelphmuseums.ca
SUMMARY:We Remember: Beaded Poppy Workshop with Naomi Smith (Chippewas of Nawash)
DESCRIPTION:Create an embossed beaded poppy pin or pendant. This two-day workshop offers traditional teachings and an introduction to Indigenous raised beading techniques and working with deer hide. The 2025 poppy design may also include quill work. \nAll are welcome (recommended 15 years old and up). Comfort with hand sewing is an asset. Participants should bring a basic sewing kit\, including small flat nose pliers\, small scissors\, thimble\, and magnifier. \nLunch is not provided/included. Participants are welcome to bring a bagged lunch or to pick up lunch in the area. \nPreregistration via Eventbrite is required. Space is limited to 20 participants with six spaces  reserved for Indigenous participants. \nNote: the workshop will run from 10 a.m. to 4:30 p.m. daily. The workshop fee is $238+HST ($180 for registration + $58 for poppy-making kit materials).
URL:https://guelphmuseums.ca/event/we-remember-beaded-poppy-workshop-with-naomi-smith-chippewas-of-nawash-3/
LOCATION:Civic Museum\, 52 Norfolk Street\, Guelph\, Ontario\, N1H 4H8\, Canada
CATEGORIES:Events
ATTACH;FMTTYPE=image/jpeg:https://guelphmuseums.ca/wp-content/uploads/2025/09/Webpage-Header-2025-poppy.jpg
GEO:43.5438325;-80.2506311
X-APPLE-STRUCTURED-LOCATION;VALUE=URI;X-ADDRESS=Civic Museum 52 Norfolk Street Guelph Ontario N1H 4H8 Canada;X-APPLE-RADIUS=500;X-TITLE=52 Norfolk Street:geo:-80.2506311,43.5438325
END:VEVENT
END:VCALENDAR