BEGIN:VCALENDAR
VERSION:2.0
PRODID:-//Guelph Museums - ECPv6.15.20//NONSGML v1.0//EN
CALSCALE:GREGORIAN
METHOD:PUBLISH
X-ORIGINAL-URL:https://guelphmuseums.ca
X-WR-CALDESC:Events for Guelph Museums
REFRESH-INTERVAL;VALUE=DURATION:PT1H
X-Robots-Tag:noindex
X-PUBLISHED-TTL:PT1H
BEGIN:VTIMEZONE
TZID:America/Toronto
BEGIN:DAYLIGHT
TZOFFSETFROM:-0500
TZOFFSETTO:-0400
TZNAME:EDT
DTSTART:20250309T070000
END:DAYLIGHT
BEGIN:STANDARD
TZOFFSETFROM:-0400
TZOFFSETTO:-0500
TZNAME:EST
DTSTART:20251102T060000
END:STANDARD
BEGIN:DAYLIGHT
TZOFFSETFROM:-0500
TZOFFSETTO:-0400
TZNAME:EDT
DTSTART:20260308T070000
END:DAYLIGHT
BEGIN:STANDARD
TZOFFSETFROM:-0400
TZOFFSETTO:-0500
TZNAME:EST
DTSTART:20261101T060000
END:STANDARD
BEGIN:DAYLIGHT
TZOFFSETFROM:-0500
TZOFFSETTO:-0400
TZNAME:EDT
DTSTART:20270314T070000
END:DAYLIGHT
BEGIN:STANDARD
TZOFFSETFROM:-0400
TZOFFSETTO:-0500
TZNAME:EST
DTSTART:20271107T060000
END:STANDARD
END:VTIMEZONE
BEGIN:VEVENT
DTSTART;TZID=America/Toronto:20260423T190000
DTEND;TZID=America/Toronto:20260423T210000
DTSTAMP:20260419T141336
CREATED:20260328T133759Z
LAST-MODIFIED:20260408T183413Z
UID:10019689-1776970800-1776978000@guelphmuseums.ca
SUMMARY:Niwiidosendimin (We Walk with Each Other)
DESCRIPTION:Niwiidosendimin (We Walk with Each Other)  \nA guided walking tour with Jordan Jamieson and Edebwed Ogichidaa / Valarie King \nOn the evening of Thursday\, April 23\, join us for a community walk from the rivers who meet in Guelph (Speed and Eramosa) to the hilltop where the Museum is located. The walk is guided by Jordan Jamieson and Edebwed Ogichidaa / Valarie King. Jordan Jamieson is an Anishinaabe knowledge keeper\, leader and youth ambassador from Mississaugas of the Credit First Nation\, who is passionate about fostering productive dialogue between Indigenous and settler communities. Edebwed Ogichidaa / Valarie King is a knowledge keeper\, educator\, and elder from Mississaugas of the Credit First Nation. \nParticipants will walk together\, pausing in specific locations to reflect on past and present experiences in the place we call Guelph\, and to imagine a shared future. Reflect and learn at the rivers and on the land through First Nations perspectives. \nThe walking tour ends on the hilltop overlooking downtown Guelph. Witness a 30-foot-wide projection on the east-facing wall of the St. Agnes School\, engaging in a dialogue with the land and the surrounding architecture. The video compilation features “The Archive of Steampunk Mishoomis\,” created by longtime Guelph resident\, Anishinaabemowin speaker\, and residential school Survivor\, Rene Meshake\, who incorporated expressions of Anishinaabe identity and pride into his work. \nThis event is offered in conjunction with the feature exhibition Maawnjidyang Maa: We Come Together Here\, curated by the Decolonizing Place Narratives Collective. Registration is required and includes access to the exhibition. \nPlease note that the walk will take approximately 60-75 minutes at a moderate pace\, with stops for storytelling and reflection at specific locations along the route. Much\, but not all\, the route is paved. Walkers will climb the steps from Gordon Street to the hilltop\, where the Basilica and the Museum are located. Please wear comfortable shoes. Note that there are no washroom facilities until the walkers reach the Guelph Civic Museum. \nParticipants are welcome to park in the Museum’s lot (entrance off Cork Street) and then walk to the meeting location at the conjunction of the rivers. The Museum’s parking lot is free of charge for participants in the event. \nPhoto Credit: Amina Lalor \nWalking Route\n \n 
URL:https://guelphmuseums.ca/event/niwiidosendimin-we-walk-with-each-other/
LOCATION:Guelph Civic Museum\, 52 Norfolk Street\, Guelph\, Ontario\, N1H 4H8\, Canada
CATEGORIES:Events
ATTACH;FMTTYPE=image/png:https://guelphmuseums.ca/wp-content/uploads/2026/03/We-Walk-with-Each-Other-Featured-Image-For-Web.png
GEO:43.5435971;-80.250923
X-APPLE-STRUCTURED-LOCATION;VALUE=URI;X-ADDRESS=Guelph Civic Museum 52 Norfolk Street Guelph Ontario N1H 4H8 Canada;X-APPLE-RADIUS=500;X-TITLE=52 Norfolk Street:geo:-80.250923,43.5435971
END:VEVENT
BEGIN:VEVENT
DTSTART;TZID=America/Toronto:20260424T190000
DTEND;TZID=America/Toronto:20260424T210000
DTSTAMP:20260419T141336
CREATED:20260404T144747Z
LAST-MODIFIED:20260414T184125Z
UID:10019690-1777057200-1777064400@guelphmuseums.ca
SUMMARY:Fourth Friday: Gayle Ackroyd & 2B Jazz
DESCRIPTION:It’s going to be a jazzy Fourth Friday at the Civic Museum when Gayle Ackroyd takes to the stage with her 2B Jazz Band. This all-ages show will thrill those who enjoy legends like Ella Fitzgerald\, Julie London\, Peggy Lee\, and Frank Sinatra\, and appreciate the contemporary sounds of Diana Krall and Amy Winehouse. . \nAdmission by donation starts at 5 p.m. with the concert beginning at 7 p.m. Cash bar available. \nAbout the Artist\nGayle Ackroyd has played clubs and festivals for decades. She started doing Jazz in 2020 and recorded the Jazz Album “He Surprises Me” with producer Rodger Stevenson. Gayle formed a Jazz band with guitarist John Brose and Liam Gallagher on Bass. The repertoire consists of upbeat swinging Jazz standards and originals. Ackroyd has lived in Guelph since 2010.
URL:https://guelphmuseums.ca/event/fourth-friday-april-2026/
LOCATION:Guelph Civic Museum\, 52 Norfolk Street\, Guelph\, Ontario\, N1H 4H8\, Canada
CATEGORIES:Events
ATTACH;FMTTYPE=image/png:https://guelphmuseums.ca/wp-content/uploads/2026/04/April-2026-4th-Friday-Gayle-Ackroyd-and-2B-Jazz-Featured-Image-For-Web.png
GEO:43.5435971;-80.250923
X-APPLE-STRUCTURED-LOCATION;VALUE=URI;X-ADDRESS=Guelph Civic Museum 52 Norfolk Street Guelph Ontario N1H 4H8 Canada;X-APPLE-RADIUS=500;X-TITLE=52 Norfolk Street:geo:-80.250923,43.5435971
END:VEVENT
BEGIN:VEVENT
DTSTART;TZID=America/Toronto:20260514T190000
DTEND;TZID=America/Toronto:20260514T203000
DTSTAMP:20260419T141336
CREATED:20260123T160751Z
LAST-MODIFIED:20260123T160751Z
UID:10019671-1778785200-1778790600@guelphmuseums.ca
SUMMARY:Tales from the Hill: Guelph Guild of Storytellers
DESCRIPTION:Tales from the Hill is presented by the Guelph Guild of Storytellers and features a guest teller in addition to Guild tellers. The evening includes hot cider\, light refreshments\, and conversation. Guests are invited to register a telling or participate during the open mic storytelling. \nTales from the Hill runs on the second Wednesday or Thursday of each month from October to May. \nGuests can arrive at 6:30 p.m. for casual socializing\, call to order at 7:00 p.m. for storytelling\, followed by time for more visits.
URL:https://guelphmuseums.ca/event/tales-from-the-hill-guelph-guild-of-storytellers-23/
LOCATION:Guelph Civic Museum\, 52 Norfolk Street\, Guelph\, Ontario\, N1H 4H8\, Canada
CATEGORIES:Events
ATTACH;FMTTYPE=image/png:https://guelphmuseums.ca/wp-content/uploads/2025/08/Tales-From-The-Hill-Fall-2025.png
GEO:43.5435971;-80.250923
X-APPLE-STRUCTURED-LOCATION;VALUE=URI;X-ADDRESS=Guelph Civic Museum 52 Norfolk Street Guelph Ontario N1H 4H8 Canada;X-APPLE-RADIUS=500;X-TITLE=52 Norfolk Street:geo:-80.250923,43.5435971
END:VEVENT
END:VCALENDAR